    BEGIN:VCALENDAR
VERSION:2.0
PRODID:-//Centro Cultural de Belém - ECPv5.16.4//NONSGML v1.0//EN
CALSCALE:GREGORIAN
METHOD:PUBLISH
X-WR-CALNAME:Centro Cultural de Belém
X-ORIGINAL-URL:https://www.ccb.pt
X-WR-CALDESC:Events for Centro Cultural de Belém
BEGIN:VTIMEZONE
TZID:Europe/Lisbon
BEGIN:DAYLIGHT
TZOFFSETFROM:+0000
TZOFFSETTO:+0100
TZNAME:WEST
DTSTART:20200329T010000
END:DAYLIGHT
BEGIN:STANDARD
TZOFFSETFROM:+0100
TZOFFSETTO:+0000
TZNAME:WET
DTSTART:20201025T010000
END:STANDARD
END:VTIMEZONE
BEGIN:VEVENT
DTSTART;TZID=Europe/Lisbon:20201004T110000
DTEND;TZID=Europe/Lisbon:20201004T120000
DTSTAMP:20260423T091851
CREATED:20200325T012620Z
LAST-MODIFIED:20260109T145057Z
UID:6945-1601809200-1601812800@www.ccb.pt
SUMMARY:Oficinas para famílias
DESCRIPTION:O Serviço Educativo da Garagem Sul promove um conjunto de atividades para famílias que procuram aprofundar os diferentes conteúdos da exposição O Mar É a Nossa Terra. \n  \nSetembro\nDia 6 \ 12:00 \ Meter a Cabeça na Areia (dos 6 aos 10 anos)\n \nOutubro\nDia 4 \ 11:00 \ A Sereia e os Gigantes (dos 4 aos 10 anos)\nDia 17 \ 11:00 \ Hora do Conto: Pradarias Marinhas (dos 4 aos 12 anos)\nDia 24 \ 11:00 \ Hora do Conto: Recife Rochoso (dos 4 aos 12 anos) \nNovembro\nDia 1 \ 11:00 \ Os Mundos Secretos do Lioz (dos 4 aos 15 anos)\nDia 14 \ 11:00 \ Hora do Conto: Floresta de Kelp (dos 4 aos 12 anos)\nDia 28 \ 11:00 \ Hora do Conto: Recife de Coral (dos 4 aos 12 anos) \nDezembro\nDia 6 \ 11:00 \ Existem Cidades no Fundo do Mar (dos 4 aos 18 anos)\nDia 12 \ 11:00 \ Hora do Conto: Floresta de Mangal (dos 4 aos 12 anos) \nJaneiro\nDia 3 \ 11:00 \ Existem Cidades no Fundo do Mar (dos 4 aos 18 anos)
URL:https://www.ccb.pt/evento/oficinas/2020-10-04/
LOCATION:Praça do Império\, Lisboa\, Lisboa\, 1449-003\, Portugal
CATEGORIES:Centro de Arquitetura,Escolas
ATTACH;FMTTYPE=image/jpeg:https://www.ccb.pt/wp-content/uploads/2020/09/imagem-3_edited-scaled.jpg
END:VEVENT
BEGIN:VEVENT
DTSTART;TZID=Europe/Lisbon:20201004T160000
DTEND;TZID=Europe/Lisbon:20201004T172000
DTSTAMP:20260423T091851
CREATED:20200421T104804Z
LAST-MODIFIED:20230313T163410Z
UID:8282-1601827200-1601832000@www.ccb.pt
SUMMARY:Rebel Without a Cause – Fúria de Viver (1955) De Nicholas Ray
DESCRIPTION:Com James Dean\, Natalie Wood\, Sal Mineo\, Dennis Hopper \nO filme que tornou James Dean num ícone do cinema americano\, e o mais intemporal filme de Nicholas Ray\, é um mítico retrato da juventude americana no pós-guerra\, uma geração marcada pela solidão\, raiva e frustração. Jim Stark (James Dean) é um jovem turbulento cujos pais o tentam desesperadamente pôr no bom caminho. Na chegada a Los Angeles\, Jim apaixona-se por Judy (Natalie Wood)\, mas este amor terá de ser disputado com Buzz (Corey Allen). A irreverência e necessidade de afirmação dos jovens arrastarão esta rivalidade até às mais trágicas consequências. \n 
URL:https://www.ccb.pt/evento/rebel-without-a-cause-furia-de-viver-1955-de-nicholas-ray/
LOCATION:Lisboa
CATEGORIES:Cinema
END:VEVENT
END:VCALENDAR