    BEGIN:VCALENDAR
VERSION:2.0
PRODID:-//Centro Cultural de Belém - ECPv5.16.4//NONSGML v1.0//EN
CALSCALE:GREGORIAN
METHOD:PUBLISH
X-WR-CALNAME:Centro Cultural de Belém
X-ORIGINAL-URL:https://www.ccb.pt
X-WR-CALDESC:Events for Centro Cultural de Belém
BEGIN:VTIMEZONE
TZID:Europe/Lisbon
BEGIN:DAYLIGHT
TZOFFSETFROM:+0000
TZOFFSETTO:+0100
TZNAME:WEST
DTSTART:20200329T010000
END:DAYLIGHT
BEGIN:STANDARD
TZOFFSETFROM:+0100
TZOFFSETTO:+0000
TZNAME:WET
DTSTART:20201025T010000
END:STANDARD
END:VTIMEZONE
BEGIN:VEVENT
DTSTART;TZID=Europe/Lisbon:20201001T210000
DTEND;TZID=Europe/Lisbon:20201001T210000
DTSTAMP:20260423T131310
CREATED:20200222T154606Z
LAST-MODIFIED:20230313T163508Z
UID:1897-1601586000-1601586000@www.ccb.pt
SUMMARY:Lina_Raül Refree
DESCRIPTION:«Seria\, no entanto\, bastante difícil adivinhar que do encontro pudesse surgir algo tão luminoso e imponderável como Lina_Raül Refree.»\nJoão Lisboa\, Expresso \n«Quando uma fadista se junta a um produtor e músico catalão isso pode resultar numa das mais belas estranhezas a que o fado foi sujeito nos últimos anos.»\nGonçalo Frota\, Público
URL:https://www.ccb.pt/evento/lina-e-raul-refree/
CATEGORIES:Espetáculos
ATTACH;FMTTYPE=image/jpeg:https://www.ccb.pt/wp-content/uploads/2020/02/LinaRaulRefree©Mileu-scaled.jpg
END:VEVENT
END:VCALENDAR