    BEGIN:VCALENDAR
VERSION:2.0
PRODID:-//Centro Cultural de Belém - ECPv5.16.4//NONSGML v1.0//EN
CALSCALE:GREGORIAN
METHOD:PUBLISH
X-WR-CALNAME:Centro Cultural de Belém
X-ORIGINAL-URL:https://www.ccb.pt
X-WR-CALDESC:Events for Centro Cultural de Belém
BEGIN:VTIMEZONE
TZID:Europe/Lisbon
BEGIN:DAYLIGHT
TZOFFSETFROM:+0000
TZOFFSETTO:+0100
TZNAME:WEST
DTSTART:20200329T010000
END:DAYLIGHT
BEGIN:STANDARD
TZOFFSETFROM:+0100
TZOFFSETTO:+0000
TZNAME:WET
DTSTART:20201025T010000
END:STANDARD
END:VTIMEZONE
BEGIN:VEVENT
DTSTART;TZID=Europe/Lisbon:20200930T110000
DTEND;TZID=Europe/Lisbon:20200930T110000
DTSTAMP:20260423T143428
CREATED:20201002T151732Z
LAST-MODIFIED:20211122T155159Z
UID:20131-1601463600-1601463600@www.ccb.pt
SUMMARY:Apresentação da Temporada 20/21
DESCRIPTION:Testemunho de Delfim Sardo ( Administrador) no dia da apresentação da Temporada 20/21. – CCB\, 30 de setembro 2020
URL:https://www.ccb.pt/evento/apresentacao-da-temporada-20-21/
ATTACH;FMTTYPE=image/jpeg:https://www.ccb.pt/wp-content/uploads/2020/10/APRESENTAÇAO-DELFIM-2.jpg
END:VEVENT
END:VCALENDAR