    BEGIN:VCALENDAR
VERSION:2.0
PRODID:-//Centro Cultural de Belém - ECPv5.16.4//NONSGML v1.0//EN
CALSCALE:GREGORIAN
METHOD:PUBLISH
X-WR-CALNAME:Centro Cultural de Belém
X-ORIGINAL-URL:https://www.ccb.pt
X-WR-CALDESC:Events for Centro Cultural de Belém
BEGIN:VTIMEZONE
TZID:Europe/Lisbon
BEGIN:DAYLIGHT
TZOFFSETFROM:+0000
TZOFFSETTO:+0100
TZNAME:WEST
DTSTART:20200329T010000
END:DAYLIGHT
BEGIN:STANDARD
TZOFFSETFROM:+0100
TZOFFSETTO:+0000
TZNAME:WET
DTSTART:20201025T010000
END:STANDARD
END:VTIMEZONE
BEGIN:VEVENT
DTSTART;TZID=Europe/Lisbon:20200927T160000
DTEND;TZID=Europe/Lisbon:20200927T190000
DTSTAMP:20260423T185106
CREATED:20200221T151739Z
LAST-MODIFIED:20230313T163612Z
UID:1424-1601222400-1601233200@www.ccb.pt
SUMMARY:Conferência: A água e as inter-relações com seres humanos e biologia marinha
DESCRIPTION:A primeira Bienal do Ambiente Lisboa 2020 tem como propósito criar um novo e eficaz modelo de comunicação sobre as alterações climáticas globais\, onde a prática artística contemporânea interage com o discurso accadémico científico – A Arte da Comunicação Científica.
URL:https://www.ccb.pt/evento/conferenciaaaguaeasinterlacoesbienalambiente/
ATTACH;FMTTYPE=image/jpeg:https://www.ccb.pt/wp-content/uploads/2020/02/snEvgeniaEmets_DR.jpg
END:VEVENT
BEGIN:VEVENT
DTSTART;TZID=Europe/Lisbon:20200927T170000
DTEND;TZID=Europe/Lisbon:20200927T170000
DTSTAMP:20260423T185106
CREATED:20200825T125143Z
LAST-MODIFIED:20201209T142531Z
UID:14671-1601226000-1601226000@www.ccb.pt
SUMMARY:Orquestra Sinfónica Portuguesa
DESCRIPTION:Dois dos mais conceituados instrumentistas da Orquestra Sinfónica Portuguesa apresentam-se como solistas do chamado Duplo Concerto de Johannes Brahms. Escrita no verão de 1887\, foi a última obra orquestral do compositor e provocou alguma perplexidade pelo facto de não se centrar no piano\, instrumento em que Brahms se expressou inteiramente. Clara Schumann\, por exemplo\, não reagiu bem ao resultado. O concerto foi estreado pelo violoncelista Robert Hausmann e pelo violinista Joseph Joachim\, com Brahms a dirigir. \nLe Cid é uma ópera de Jules Massenet estreada em 1885\, em Paris\, com um libreto baseado na peça homónima de Corneille. Apesar de ter gozado de enorme popularidade nos finais do século XIX\, a ópera caiu depois no desfavor das plateias. Tal não aconteceu\, porém\, com a música de bailado escrita para o Ato II\, que continua a ser muito executada como suíte de concerto. Apresenta aqui uma série de danças oriundas de diferentes regiões de Espanha: Castillane\, Andalouse\, Aragonaise\, Aubade\, Catalane\, Madrilène e Navarraise. \n 
URL:https://www.ccb.pt/evento/orquestra-sinfonica-portuguesa-2/
CATEGORIES:Espetáculos
ATTACH;FMTTYPE=image/jpeg:https://www.ccb.pt/wp-content/uploads/2020/08/sn_AntonioPirolli-e1598360060312.jpg
END:VEVENT
END:VCALENDAR