    BEGIN:VCALENDAR
VERSION:2.0
PRODID:-//Centro Cultural de Belém - ECPv5.16.4//NONSGML v1.0//EN
CALSCALE:GREGORIAN
METHOD:PUBLISH
X-WR-CALNAME:Centro Cultural de Belém
X-ORIGINAL-URL:https://www.ccb.pt
X-WR-CALDESC:Events for Centro Cultural de Belém
BEGIN:VTIMEZONE
TZID:Europe/Lisbon
BEGIN:DAYLIGHT
TZOFFSETFROM:+0000
TZOFFSETTO:+0100
TZNAME:WEST
DTSTART:20200329T010000
END:DAYLIGHT
BEGIN:STANDARD
TZOFFSETFROM:+0100
TZOFFSETTO:+0000
TZNAME:WET
DTSTART:20201025T010000
END:STANDARD
END:VTIMEZONE
BEGIN:VEVENT
DTSTART;TZID=Europe/Lisbon:20200925T100000
DTEND;TZID=Europe/Lisbon:20200925T170000
DTSTAMP:20260423T213120
CREATED:20200911T114142Z
LAST-MODIFIED:20210111T175845Z
UID:16620-1601028000-1601053200@www.ccb.pt
SUMMARY:Conversas com Mar
DESCRIPTION:A bióloga marinha Mónica Albuquerque desenvolve um conjunto variado de conversas para escolas em que aborda uma miríade de temas ligados ao mar. Recorrendo à sua vasta experiência na EMEPC (Estrutura de Missão para a Extensão da Plataforma Continental) e tirando partido do acesso privilegiado aos recursos da entidade\, a bióloga revela segredos escondidos no fundo do mar e explica como e porque exploramos o mundo subaquático. \n  \nEsta atividade integra o programa de divulgação científica da EMEPC – Estrutura de Missão para a Extensão da Plataforma Continental.
URL:https://www.ccb.pt/evento/conversas-com-mar/2020-09-25/
CATEGORIES:Escolas,Fábrica das Artes
ATTACH;FMTTYPE=image/jpeg:https://www.ccb.pt/wp-content/uploads/2020/09/ConversasComMar_1920x1080_cAthilaBertoncini6.jpg
END:VEVENT
BEGIN:VEVENT
DTSTART;TZID=Europe/Lisbon:20200925T100000
DTEND;TZID=Europe/Lisbon:20200925T173000
DTSTAMP:20260423T213120
CREATED:20201031T091322Z
LAST-MODIFIED:20220601T132321Z
UID:24158-1601028000-1601055000@www.ccb.pt
SUMMARY:No Fundo Portugal é Mar
DESCRIPTION:No Fundo Portugal é Mar | Graça Castanheira \nInstalação vídeo de Graça Castanheira\, criada com base em imagens cedidas pela Estrutura de Missão para a Extensão da Plataforma Continental (EMEPC). Os vídeos utilizados na instalação foram captados por mergulhadores e pelo ROV Luso\, um robô telecomandado que desce a seis mil metros de profundidade.\nMuito embora seja popular a expressão «ponta do icebergue» para indiretamente referir a parte que não é visível\, o certo é que sabemos pouco sobre as realidades submergidas do território. O que esta instalação se propõe fazer é imergir\, viver abaixo da linha de água durante o tempo em que é percorrida por quem a visita.\nUm movimento exploratório por território marítimo português. \n  \nPlasticus maritimus | Mostra de Ana Pêgo inserida na exposição \nDentro da exposição\, em duas vitrinas\, é apresentada uma minúscula amostra do trabalho de Ana Pêgo\, bióloga marinha\, de recolha de objetos de plástico (em especial brinquedos) nas praias portuguesas ao longo de anos. Ana Pêgo realizou um exaustivo trabalho de identificação e catalogação da origem destes exemplares da espécie Plasticus maritimus desde 2015.
URL:https://www.ccb.pt/evento/no-fundo-portugal-e-mar/2020-09-25/
CATEGORIES:Escolas,Exposições,Fábrica das Artes
ATTACH;FMTTYPE=image/jpeg:https://www.ccb.pt/wp-content/uploads/2020/09/NoFundoPortugalEMarExposicao_1920x1080_cNunoVascoRodrigues-1.jpg
END:VEVENT
BEGIN:VEVENT
DTSTART;TZID=Europe/Lisbon:20200925T210000
DTEND;TZID=Europe/Lisbon:20200925T220000
DTSTAMP:20260423T213120
CREATED:20200218T113904Z
LAST-MODIFIED:20230313T105228Z
UID:975-1601067600-1601071200@www.ccb.pt
SUMMARY:Pedro Caldeira Cabral - O Fado da Cítara Portuguesa
DESCRIPTION:«Na escolha deste programa\, proponho-me assinalar um claro interesse na utilização plena dos recursos expressivos característicos da cítara portuguesa\, com leituras interpretativas que valorizem as diversas opções estéticas de acordo com uma perspetiva performativa historicamente informada.» – Pedro Caldeira Cabral
URL:https://www.ccb.pt/evento/pedro-caldeira-cabral-o-fado-da-citara-portuguesa/
CATEGORIES:Espetáculos
ATTACH;FMTTYPE=image/jpeg:https://www.ccb.pt/wp-content/uploads/2020/02/snPedroCaldeiraCabral_GracaMorais.jpg
END:VEVENT
END:VCALENDAR