    BEGIN:VCALENDAR
VERSION:2.0
PRODID:-//Centro Cultural de Belém - ECPv5.16.4//NONSGML v1.0//EN
CALSCALE:GREGORIAN
METHOD:PUBLISH
X-WR-CALNAME:Centro Cultural de Belém
X-ORIGINAL-URL:https://www.ccb.pt
X-WR-CALDESC:Events for Centro Cultural de Belém
BEGIN:VTIMEZONE
TZID:Europe/Lisbon
BEGIN:DAYLIGHT
TZOFFSETFROM:+0000
TZOFFSETTO:+0100
TZNAME:WEST
DTSTART:20200329T010000
END:DAYLIGHT
BEGIN:STANDARD
TZOFFSETFROM:+0100
TZOFFSETTO:+0000
TZNAME:WET
DTSTART:20201025T010000
END:STANDARD
END:VTIMEZONE
BEGIN:VEVENT
DTSTART;TZID=Europe/Lisbon:20200702T200000
DTEND;TZID=Europe/Lisbon:20200702T200000
DTSTAMP:20260423T091923
CREATED:20200222T183021Z
LAST-MODIFIED:20200618T200745Z
UID:2029-1593720000-1593720000@www.ccb.pt
SUMMARY:Dante Project
DESCRIPTION:A Divina Comédia de Dante é uma viagem épica sobre a vida após a morte: abrange o drama aterrador do Inferno e dos seus condenados\, o misticismo lírico dos peregrinos no monte Purgatório e as esferas deslumbrantes do Paraíso com as suas configurações de luz intermináveis. O poema foi inspirado na agonia do próprio exílio de Dante e narra o seu percurso desde a crise até à revelação orientado pelo seu herói literário\, Virgílio\, e pelo seu amor perdido\, Beatriz. Neste novo trabalho\, Wayne McGregor\, o inovador Coreógrafo Residente do Royal Ballet\, colabora com uma equipa premiada – o compositor contemporâneo Thomas Adès\, a artista Tacita Dean\, a autora do desenho de luz Lucy Carter e a responsável pela dramaturgia Uzma Hameed – para nos levar mais perto de Dante e da sua visão extraordinária. \n 
URL:https://www.ccb.pt/evento/dante-project/
ATTACH;FMTTYPE=image/jpeg:https://www.ccb.pt/wp-content/uploads/2020/02/ROH-19-20_THE-DANTE-PROJECT_DETAIL-OF-POSTCARD-SKETCH-MOUNTAINS-2007-COLLAGE-OF-FOUND-POSTCARDS.-COURTESY-TACITA-DEAN-FRITH-STREET-GALLERY-LONDON-AND-MARIAN-GOODMAN-GALLERY-NEW-YORK-PARIS.jpg
END:VEVENT
END:VCALENDAR