    BEGIN:VCALENDAR
VERSION:2.0
PRODID:-//Centro Cultural de Belém - ECPv5.16.4//NONSGML v1.0//EN
CALSCALE:GREGORIAN
METHOD:PUBLISH
X-WR-CALNAME:Centro Cultural de Belém
X-ORIGINAL-URL:https://www.ccb.pt
X-WR-CALDESC:Events for Centro Cultural de Belém
BEGIN:VTIMEZONE
TZID:Europe/Lisbon
BEGIN:DAYLIGHT
TZOFFSETFROM:+0000
TZOFFSETTO:+0100
TZNAME:WEST
DTSTART:20200329T010000
END:DAYLIGHT
BEGIN:STANDARD
TZOFFSETFROM:+0100
TZOFFSETTO:+0000
TZNAME:WET
DTSTART:20201025T010000
END:STANDARD
END:VTIMEZONE
BEGIN:VEVENT
DTSTART;TZID=Europe/Lisbon:20200627T210000
DTEND;TZID=Europe/Lisbon:20200627T210000
DTSTAMP:20260419T173443
CREATED:20200222T182312Z
LAST-MODIFIED:20200618T204637Z
UID:2018-1593291600-1593291600@www.ccb.pt
SUMMARY:Filipe Sambado
DESCRIPTION:Filipe Sambado inaugurou o seu percurso musical em 2012 com o EP Isto Não É Coisa Pra Voltar a Acontecer. No entanto\, aconteceu mesmo e assim chegaram até nós os EP 1\,2\,3\,4 e Ups… Fiz Isto Outra Vez\, que abriram caminho para Vida Salgada\, o seu primeiro longa duração\, lançado em 2016. O seu mais recente trabalho Filipe Sambado & Os Acompanhantes de Luxo\, foi editado em 2018. Aclamado pela crítica especializada e pelo público\, foi considerado o melhor disco nacional do ano pela Antena 3\, Radar e Vodafone FM\, e nomeado para os Prémios SPA 2019 na categoria de Música – Melhor Trabalho de Música Popular.
URL:https://www.ccb.pt/evento/filipe-sambado/
ATTACH;FMTTYPE=image/jpeg:https://www.ccb.pt/wp-content/uploads/2020/02/Filipe-Sambado-3-_cred_-Diogo-Vasconcelos-Xipipa-2.jpg
END:VEVENT
END:VCALENDAR