    BEGIN:VCALENDAR
VERSION:2.0
PRODID:-//Centro Cultural de Belém - ECPv5.16.4//NONSGML v1.0//EN
CALSCALE:GREGORIAN
METHOD:PUBLISH
X-WR-CALNAME:Centro Cultural de Belém
X-ORIGINAL-URL:https://www.ccb.pt
X-WR-CALDESC:Events for Centro Cultural de Belém
BEGIN:VTIMEZONE
TZID:Europe/Lisbon
BEGIN:DAYLIGHT
TZOFFSETFROM:+0000
TZOFFSETTO:+0100
TZNAME:WEST
DTSTART:20190331T010000
END:DAYLIGHT
BEGIN:STANDARD
TZOFFSETFROM:+0100
TZOFFSETTO:+0000
TZNAME:WET
DTSTART:20191027T010000
END:STANDARD
BEGIN:DAYLIGHT
TZOFFSETFROM:+0000
TZOFFSETTO:+0100
TZNAME:WEST
DTSTART:20200329T010000
END:DAYLIGHT
BEGIN:STANDARD
TZOFFSETFROM:+0100
TZOFFSETTO:+0000
TZNAME:WET
DTSTART:20201025T010000
END:STANDARD
END:VTIMEZONE
BEGIN:VEVENT
DTSTART;TZID=Europe/Lisbon:20190910T000000
DTEND;TZID=Europe/Lisbon:20200620T000000
DTSTAMP:20260423T042956
CREATED:20200620T171505Z
LAST-MODIFIED:20200620T171726Z
UID:11415-1568073600-1592611200@www.ccb.pt
SUMMARY:Livro de atividades para os mais novos
DESCRIPTION:Em parceria com o CCB\, o Observador criou um livro de atividades destinado aos mais novos que leva miúdos e graúdos a conhecerem por dentro todos os recantos do Centro Cultural de Belém. Descarregue gratuitamente o livro Um dia no CCB e entre no «labirinto» da Garagem Sul\, descubra as principais atividades do CCB numa sopa de letras\, vista o papel de «detetive da cultura» nas palavras cruzadas que temos para lhe oferecer. \nEstas e muitas outras atividades que muito vão animar as crianças nestes dias estão à distância de um clique.
URL:https://www.ccb.pt/evento/livro-de-atividades-para-os-mais-novos/
CATEGORIES:Escolas
ATTACH;FMTTYPE=image/jpeg:https://www.ccb.pt/wp-content/uploads/2020/06/800x800UmDiaNoCCB.jpg
END:VEVENT
BEGIN:VEVENT
DTSTART;TZID=Europe/Lisbon:20200527T080000
DTEND;TZID=Europe/Lisbon:20200610T233000
DTSTAMP:20260423T042956
CREATED:20210113T111711Z
LAST-MODIFIED:20211110T154651Z
UID:30671-1590566400-1591831800@www.ccb.pt
SUMMARY:Poemário | Companhia de Música Teatral
DESCRIPTION:E se a palavra poesia ganhasse asas? \nSe imagens\, sons\, gestos pudessem ser a matéria prima com que se brinca e sonha\, e fossem as «novas palavras» de uma coleção de poemas audiovisuais feitos à medida da nossa necessidade de estarmos juntos? \nÉ essa a ideia de Poemário: uma «prateleira» de poemas diferentes\, emanando do universo criativo da Companhia de Música Teatral e da relação que tem tido com a Fábrica das Artes. \nNeste Poemário está reunido o trabalho de um conjunto de artistas participando em processos colaborativos\, a trabalhar a partir das suas casas. \nAo longo de três semanas\, entre maio e junho de 2020\, foram acrescentados quatro novos poemas emanados do universo criativo da CMT e da sua longa relação com a Fábrica das Artes do CCB. \nEstes e outros poemas foram também a base para uma série de performances online\, sob o título Poemário Vivo\, decorrido nos dias 17 a 21 de Junho de 2020.
URL:https://www.ccb.pt/evento/poemario-companhia-de-musica-teatral/
CATEGORIES:Cinema,Escolas,Fábrica das Artes
ATTACH;FMTTYPE=image/jpeg:https://www.ccb.pt/wp-content/uploads/2021/01/sn_Poemario01_CMT.jpg
END:VEVENT
BEGIN:VEVENT
DTSTART;TZID=Europe/Lisbon:20200603T180000
DTEND;TZID=Europe/Lisbon:20200603T180000
DTSTAMP:20260423T042956
CREATED:20200526T102124Z
LAST-MODIFIED:20200618T205750Z
UID:9630-1591207200-1591207200@www.ccb.pt
SUMMARY:Conversas com História
DESCRIPTION:A historiadora Raquel Varela recebe no dia 3 de junho\, no âmbito do ciclo Conversas com História\, Ricardo Araújo Pereira. O humorista vai-nos ajudar a pensar o que é isto do humor\, como e quando nos começámos a rir na longa linha do tempo do género humano\, e abordaremos a inevitável pergunta: «há limites para o humor?» \nNeste ciclo\, cada conversa\, informal\, parte de uma pergunta inquietante da atualidade para\, através do passado – explicado para o grande público –\, nos ajudar a compreender o presente. \nA democracia é o menos imperfeito dos regimes? Entre a educação repressiva e a cultura permissiva\, há alternativa? Não existem diferenças entre sexos? São construções culturais? A próxima crise económica é inevitável? A religião é um ópio ou uma expressão do sofrimento? Freud tinha razão quando «culpou» as mães pelos erros dos filhos? \nO ciclo Conversas com História convida-vos a estar presentes nesta série de entrevistas sem tabus\, sobre temas da atualidade. O público será convidado a questionar\, criticar e debater connosco o futuro. Não conseguimos mudar o passado – mas sem o conhecer não podemos transformar o futuro.
URL:https://www.ccb.pt/evento/conversas-com-historia-9/
ATTACH;FMTTYPE=image/jpeg:https://www.ccb.pt/wp-content/uploads/2020/05/snRAP_AlfredoCunha.jpg
END:VEVENT
END:VCALENDAR