    BEGIN:VCALENDAR
VERSION:2.0
PRODID:-//Centro Cultural de Belém - ECPv5.16.4//NONSGML v1.0//EN
CALSCALE:GREGORIAN
METHOD:PUBLISH
X-WR-CALNAME:Centro Cultural de Belém
X-ORIGINAL-URL:https://www.ccb.pt
X-WR-CALDESC:Events for Centro Cultural de Belém
BEGIN:VTIMEZONE
TZID:Europe/Lisbon
BEGIN:DAYLIGHT
TZOFFSETFROM:+0000
TZOFFSETTO:+0100
TZNAME:WEST
DTSTART:20190331T010000
END:DAYLIGHT
BEGIN:STANDARD
TZOFFSETFROM:+0100
TZOFFSETTO:+0000
TZNAME:WET
DTSTART:20191027T010000
END:STANDARD
BEGIN:DAYLIGHT
TZOFFSETFROM:+0000
TZOFFSETTO:+0100
TZNAME:WEST
DTSTART:20200329T010000
END:DAYLIGHT
BEGIN:STANDARD
TZOFFSETFROM:+0100
TZOFFSETTO:+0000
TZNAME:WET
DTSTART:20201025T010000
END:STANDARD
END:VTIMEZONE
BEGIN:VEVENT
DTSTART;TZID=Europe/Lisbon:20190910T000000
DTEND;TZID=Europe/Lisbon:20200620T000000
DTSTAMP:20260423T191859
CREATED:20200620T171505Z
LAST-MODIFIED:20200620T171726Z
UID:11415-1568073600-1592611200@www.ccb.pt
SUMMARY:Livro de atividades para os mais novos
DESCRIPTION:Em parceria com o CCB\, o Observador criou um livro de atividades destinado aos mais novos que leva miúdos e graúdos a conhecerem por dentro todos os recantos do Centro Cultural de Belém. Descarregue gratuitamente o livro Um dia no CCB e entre no «labirinto» da Garagem Sul\, descubra as principais atividades do CCB numa sopa de letras\, vista o papel de «detetive da cultura» nas palavras cruzadas que temos para lhe oferecer. \nEstas e muitas outras atividades que muito vão animar as crianças nestes dias estão à distância de um clique.
URL:https://www.ccb.pt/evento/livro-de-atividades-para-os-mais-novos/
CATEGORIES:Escolas
ATTACH;FMTTYPE=image/jpeg:https://www.ccb.pt/wp-content/uploads/2020/06/800x800UmDiaNoCCB.jpg
END:VEVENT
BEGIN:VEVENT
DTSTART;TZID=Europe/Lisbon:20200222T210000
DTEND;TZID=Europe/Lisbon:20200525T095500
DTSTAMP:20260423T191859
CREATED:20200525T103424Z
LAST-MODIFIED:20200525T103424Z
UID:9439-1582405200-1590400500@www.ccb.pt
SUMMARY:Popcorn
DESCRIPTION:Como e porque é que um artista ao entrar em cena se transfigura? Onde está o clique? Como é que a sua capacidade de representar\, a sua capacidade de reagir a um movimento que não conhece\, de o integrar\, de deixar tudo para se entregar ao prazer da transformação que ele anseia\, nos reenvia para a infância? Popcorn dá a ver um bailarino e um acrobata que vão descobrir-se num espaço cénico que os protege e explora a vontade de ambos representarem e de se fundirem no mesmo movimento.\nPopcorn é um espetáculo burlesco e\, por vezes\, desesperado – ou talvez o seu contrário – mas salpicado de idealismo.
URL:https://www.ccb.pt/evento/popcorn/2020-02-22/
ATTACH;FMTTYPE=image/jpeg:https://www.ccb.pt/wp-content/uploads/2020/05/snMiguelRamalho.jpg
END:VEVENT
BEGIN:VEVENT
DTSTART;TZID=Europe/Lisbon:20200523T210000
DTEND;TZID=Europe/Lisbon:20200523T210000
DTSTAMP:20260423T191859
CREATED:20200222T155404Z
LAST-MODIFIED:20230313T164111Z
UID:1902-1590267600-1590267600@www.ccb.pt
SUMMARY:Orquestra Sinfónica do Porto Casa da Música
DESCRIPTION:sonaebpisonaAlém de maestro de enorme prestígio internacional\, Christian Zacharias é um pianista renomado com prémios obtidos nos concursos de Genebra\, Van Cliburn e Ravel. A sua discografia é referência internacional e inclui as integrais dos Concertos para piano de Mozart e Beethoven. Assim\, a apresentação do 3.º Concerto para piano de Beethoven assume especial relevo neste concerto que marca o regresso da Orquestra Sinfónica do Porto Casa da Música ao CCB. A noite encerra da melhor maneira com uma sinfonia daquele que foi por muitos considerado o herdeiro direto de Beethoven. A Segunda Sinfonia de Brahms tem um carácter bucólico e rústico\, acumulando referências à música dos grandes mestres vienenses – Haydn\, Mozart e Beethoven. Um programa integralmente estreado em Viena entre 1806 e 1877\, aqui apresentado sob a direção de um grande especialista neste repertório.
URL:https://www.ccb.pt/evento/orquestra-sinfonica-do-porto-casa-da-masica/
CATEGORIES:Espetáculos
ATTACH;FMTTYPE=image/jpeg:https://www.ccb.pt/wp-content/uploads/2020/02/sinfonica-casa-da-musica22904.jpg
END:VEVENT
END:VCALENDAR