    BEGIN:VCALENDAR
VERSION:2.0
PRODID:-//Centro Cultural de Belém - ECPv5.16.4//NONSGML v1.0//EN
CALSCALE:GREGORIAN
METHOD:PUBLISH
X-WR-CALNAME:Centro Cultural de Belém
X-ORIGINAL-URL:https://www.ccb.pt
X-WR-CALDESC:Events for Centro Cultural de Belém
BEGIN:VTIMEZONE
TZID:Europe/Lisbon
BEGIN:DAYLIGHT
TZOFFSETFROM:+0000
TZOFFSETTO:+0100
TZNAME:WEST
DTSTART:20190331T010000
END:DAYLIGHT
BEGIN:STANDARD
TZOFFSETFROM:+0100
TZOFFSETTO:+0000
TZNAME:WET
DTSTART:20191027T010000
END:STANDARD
END:VTIMEZONE
BEGIN:VEVENT
DTSTART;TZID=Europe/Lisbon:20190619T100000
DTEND;TZID=Europe/Lisbon:20190915T180000
DTSTAMP:20260421T064707
CREATED:20200428T192254Z
LAST-MODIFIED:20260109T141656Z
UID:8453-1560938400-1568570400@www.ccb.pt
SUMMARY:Os Ossos da Arquitetura
DESCRIPTION:Para além dos materiais que dão forma e aparência a um edifício\, há pré-condições físicas que permanecem fundamentais – a sua sustentação como um todo e a capacidade de se manter em pé: tal como os animais têm ossos\, cada edifício tem uma estrutura. Os edifícios têm lógicas internas que não são negligenciáveis\, a interconexão dos seus materiais e componentes dá-lhes força e\, como consequência\, essas lógicas impõem formas\, padrões\, ordens e constrangimentos. Na arquitetura\, há uma longa tradição de pensamento que toma a metáfora biomórfica para a estrutura portante\, com a construção a tornar-se a anatomia da arquitetura. A ciência\, novos materiais e tecnologias têm permitido uma liberdade extra no projeto de edifícios.\nEsta exposição examina a atenção dada à estrutura ao serviço da arquitetura\, tal como tem vindo a ser desenvolvida por vários projetistas europeus. Serão apresentados trabalhos e métodos de sete arquitetos e engenheiros que permitem refletir sobre princípios\, regras\, estratégias e métodos de conceção estrutural. \nCurador Mario Rinke
URL:https://www.ccb.pt/evento/os-ossos-da-arquitetura/
LOCATION:Praça do Império\, Lisboa\, Lisboa\, 1449-003\, Portugal
CATEGORIES:Centro de Arquitetura
ATTACH;FMTTYPE=image/jpeg:https://www.ccb.pt/wp-content/uploads/2020/04/BRUTHER-Centro-Cultural-e-Desportivo-Paris-França-2014-scaled.jpg
END:VEVENT
END:VCALENDAR