    BEGIN:VCALENDAR
VERSION:2.0
PRODID:-//Centro Cultural de Belém - ECPv5.16.4//NONSGML v1.0//EN
CALSCALE:GREGORIAN
METHOD:PUBLISH
X-WR-CALNAME:Centro Cultural de Belém
X-ORIGINAL-URL:https://www.ccb.pt
X-WR-CALDESC:Events for Centro Cultural de Belém
BEGIN:VTIMEZONE
TZID:Europe/Lisbon
BEGIN:DAYLIGHT
TZOFFSETFROM:+0000
TZOFFSETTO:+0100
TZNAME:WEST
DTSTART:20180325T010000
END:DAYLIGHT
BEGIN:STANDARD
TZOFFSETFROM:+0100
TZOFFSETTO:+0000
TZNAME:WET
DTSTART:20181028T010000
END:STANDARD
END:VTIMEZONE
BEGIN:VEVENT
DTSTART;TZID=Europe/Lisbon:20180101T000000
DTEND;TZID=Europe/Lisbon:20181001T000000
DTSTAMP:20260424T092605
CREATED:20200715T111022Z
LAST-MODIFIED:20211020T093940Z
UID:14124-1514764800-1538352000@www.ccb.pt
SUMMARY:Documentário: Raízes da Curiosidade
DESCRIPTION:De duas sementes lançadas em 2012 (o convite público aos artistas para apresentação de propostas lançado pelo CCB e o início do projeto Transversalidades da Fábrica das Artes)\, nasceu “Raízes da Curiosidade – Tempo de Ciência e Arte” uma proposta multidisciplinar que envolveu artistas e neurocientistas e cujo fruto final é este livro que já se encontra à venda no CCB. \nCoproduzido pelo Centro Cultural de Belém e pela Fundação Champalimaud\, “Raízes da Curiosidade – Tempo de Ciência e Arte” foi desenvolvido a partir de uma proposta de três cientistas (Ana Rita Fonseca\, Patrícia Correia e Samuel Viana)\, da qual resultaram uma performance/conferência\, um conjunto de oficinas interativas\, uma instalação e uma conferência internacional. \nEste livro\, que inclui ainda o documentário da realizadora Cláudia Varejão\, oferece o registo e a reflexão desta experiência\, com textos de todos os artistas e cientistas envolvidos\, assim como um texto da autoria da coordenadora e programadora da Fábrica das Artes\, Madalena Wallenstein\, e prefácio de António Damásio.
URL:https://www.ccb.pt/evento/documentario-raizes-da-curiosidade-tempo-de-ciencia-e-arte/
CATEGORIES:Escolas
ATTACH;FMTTYPE=image/jpeg:https://www.ccb.pt/wp-content/uploads/2020/06/snRaizesDaCuriosidadeLancamentoLivroByManuel-Ruas-Moreira.jpg
END:VEVENT
END:VCALENDAR