    BEGIN:VCALENDAR
VERSION:2.0
PRODID:-//Centro Cultural de Belém - ECPv5.16.4//NONSGML v1.0//EN
CALSCALE:GREGORIAN
METHOD:PUBLISH
X-WR-CALNAME:Centro Cultural de Belém
X-ORIGINAL-URL:https://www.ccb.pt
X-WR-CALDESC:Events for Centro Cultural de Belém
BEGIN:VTIMEZONE
TZID:Europe/Lisbon
BEGIN:DAYLIGHT
TZOFFSETFROM:+0000
TZOFFSETTO:+0100
TZNAME:WEST
DTSTART:20180325T010000
END:DAYLIGHT
BEGIN:STANDARD
TZOFFSETFROM:+0100
TZOFFSETTO:+0000
TZNAME:WET
DTSTART:20181028T010000
END:STANDARD
END:VTIMEZONE
BEGIN:VEVENT
DTSTART;TZID=Europe/Lisbon:20180101T000000
DTEND;TZID=Europe/Lisbon:20181001T000000
DTSTAMP:20260422T220220
CREATED:20200715T111022Z
LAST-MODIFIED:20211020T093940Z
UID:14124-1514764800-1538352000@www.ccb.pt
SUMMARY:Documentário: Raízes da Curiosidade
DESCRIPTION:De duas sementes lançadas em 2012 (o convite público aos artistas para apresentação de propostas lançado pelo CCB e o início do projeto Transversalidades da Fábrica das Artes)\, nasceu “Raízes da Curiosidade – Tempo de Ciência e Arte” uma proposta multidisciplinar que envolveu artistas e neurocientistas e cujo fruto final é este livro que já se encontra à venda no CCB. \nCoproduzido pelo Centro Cultural de Belém e pela Fundação Champalimaud\, “Raízes da Curiosidade – Tempo de Ciência e Arte” foi desenvolvido a partir de uma proposta de três cientistas (Ana Rita Fonseca\, Patrícia Correia e Samuel Viana)\, da qual resultaram uma performance/conferência\, um conjunto de oficinas interativas\, uma instalação e uma conferência internacional. \nEste livro\, que inclui ainda o documentário da realizadora Cláudia Varejão\, oferece o registo e a reflexão desta experiência\, com textos de todos os artistas e cientistas envolvidos\, assim como um texto da autoria da coordenadora e programadora da Fábrica das Artes\, Madalena Wallenstein\, e prefácio de António Damásio.
URL:https://www.ccb.pt/evento/documentario-raizes-da-curiosidade-tempo-de-ciencia-e-arte/
CATEGORIES:Escolas
ATTACH;FMTTYPE=image/jpeg:https://www.ccb.pt/wp-content/uploads/2020/06/snRaizesDaCuriosidadeLancamentoLivroByManuel-Ruas-Moreira.jpg
END:VEVENT
BEGIN:VEVENT
DTSTART;TZID=Europe/Lisbon:20180307T100000
DTEND;TZID=Europe/Lisbon:20180617T180000
DTSTAMP:20260422T220220
CREATED:20200429T124915Z
LAST-MODIFIED:20260109T153518Z
UID:8570-1520416800-1529258400@www.ccb.pt
SUMMARY:Paris Haussmann
DESCRIPTION:Haussmann\, responsável pelo Departamento do Sena\, de 1853 a 1870\, transformou extensivamente Paris\, acima e abaixo do solo\, do centro aos arredores da cidade. O seu nome personifica um século de obras públicas que ainda hoje definem a organização urbana da cidade e a identidade da capital francesa. Quem iria pensar no mapeamento do Segundo Império Francês como uma rede exemplar para a mobilidade? Ou o quarteirão do século XIX como uma ferramenta eficaz para uma cidade sustentável? Ou a construção estilo Haussmann como arquétipo de flexibilidade? A mostra Paris Haussmann analisa e revela o potencial do modelo urbano parisiense contemporâneo relativamente às apostas e desafios das cidades de amanhã. \nCuradores LAN (Benoît Jallon & Umberto Napolitano) e FBC (Franck Boutté)
URL:https://www.ccb.pt/evento/paris-haussmann/
LOCATION:Praça do Império\, Lisboa\, Lisboa\, 1449-003\, Portugal
CATEGORIES:Centro de Arquitetura
ATTACH;FMTTYPE=image/jpeg:https://www.ccb.pt/wp-content/uploads/2020/04/Weiner_haussmann_759_11-scaled.jpg
END:VEVENT
BEGIN:VEVENT
DTSTART;TZID=Europe/Lisbon:20180307T100000
DTEND;TZID=Europe/Lisbon:20180617T180000
DTSTAMP:20260422T220220
CREATED:20200429T131839Z
LAST-MODIFIED:20260109T153551Z
UID:8577-1520416800-1529258400@www.ccb.pt
SUMMARY:Desenhos de Marques da Silva no Atelier Laloux
DESCRIPTION:No início do século XX\, o pragmatismo e a competência de José Marques da Silva (1869-1947) fizeram deste arquiteto uma das principais figuras da arquitetura no Porto. A sua obra\, construída sobretudo no norte de Portugal\, é eclética e variada\, mas não deixa de tornar evidente a matriz parisiense que se tornou fundamental para a caracterização da cultura arquitetónica portuguesa. Esta exposição apresenta um núcleo de desenhos de arquivo pertencentes ao período da sua formação em Paris\, entre 1889 e 1896\, quando foi aluno da École Nationale et Spéciale des Beaux-Arts e discípulo de Victor Laloux\, o arquiteto da Gare d’Orsay.
URL:https://www.ccb.pt/evento/desenhos-de-marques-da-silva-no-atelier-laloux/
LOCATION:Praça do Império\, Lisboa\, Lisboa\, 1449-003\, Portugal
CATEGORIES:Centro de Arquitetura
ATTACH;FMTTYPE=image/jpeg:https://www.ccb.pt/wp-content/uploads/2020/04/snImagemGaragemSulMarco18b.jpg
END:VEVENT
BEGIN:VEVENT
DTSTART;TZID=Europe/Lisbon:20180508T190000
DTEND;TZID=Europe/Lisbon:20180508T203000
DTSTAMP:20260422T220220
CREATED:20200522T123045Z
LAST-MODIFIED:20260109T142415Z
UID:9288-1525806000-1525811400@www.ccb.pt
SUMMARY:Laurent Stalder
DESCRIPTION:Se fosse necessário resumir a história da modernidade (até a um passado recente) num único título\, um dos conceitos cruciais que teria de ser referido seria a incessante procura do «novo»: novos modos de viver\, novas formas de construir\, novos materiais\, novos métodos de construção\, novos processos de design\, novos desafios construtivos\, novos protagonistas e\, até\, novos seres humanos. Mas o que poderia significar a avaliação da passagem do velho para o novo\, do moderno para o pós-moderno\, das vanguardas para as neovanguardas\, considerando-os não apenas figuras retóricas\, mas verdadeiros fenómenos físicos? O que poderia significar não representar o «novo» enquanto postulado\, mas estudá-lo precisamente no momento exato em que se torna obsoleto: quando os materiais falham\, a infraestrutura deixa de funcionar\, e a construção não cumpre os requisitos pretendidos? Por outras palavras\, qual seria o resultado de um estudo da arquitetura moderna não apenas em termos das suas inovações\, mas debruçando-se também sobre o que ocorre com as inovações à medida que o tempo passa? Quais as implicações de prestar uma séria atenção à passagem do tempo e de estudar\, igualmente\, a arquitetura no ponto em que o edifício e os seus utilizadores deixam de seguir o programa inscrito na sua arquitetura\, o ponto no qual a arquitetura se desintegra\, é destruída\, abandonada ou\, simplesmente\, deixa de cumprir as suas premissas?
URL:https://www.ccb.pt/evento/laurent-stalder/
LOCATION:Praça do Império\, Lisboa\, Lisboa\, 1449-003\, Portugal
CATEGORIES:Centro de Arquitetura
ATTACH;FMTTYPE=image/jpeg:https://www.ccb.pt/wp-content/uploads/2020/05/OMA-Dance-Theatre-Den-Haag-2016.-Foto-Photo-Hans-Werlemann-copy.jpg
END:VEVENT
BEGIN:VEVENT
DTSTART;TZID=Europe/Lisbon:20180508T190000
DTEND;TZID=Europe/Lisbon:20180508T190000
DTSTAMP:20260422T220220
CREATED:20200609T162926Z
LAST-MODIFIED:20200618T142314Z
UID:10348-1525806000-1525806000@www.ccb.pt
SUMMARY:Laurent Stalder
DESCRIPTION:Se quiséssemos resumir a história da modernidade teríamos que referir a incessante procura do «novo». Novos modos de viver\, novas formas de construir\, novos materiais\, novos métodos de construção\, novos processos de design\, até novos seres humanos. Quais as implicações de prestar uma séria atenção à passagem do tempo? De estudar\, igualmente\, a arquitetura no ponto em que o edifício e os seus utilizadores deixam de seguir o programa inscrito na sua arquitetura\, o ponto no qual a arquitetura se desintegra\, é destruída\, abandonada ou\, simplesmente\, deixa de cumprir as suas premissas?
URL:https://www.ccb.pt/evento/laurent-stalder-o-que-acontece-a-arquitetura/
ATTACH;FMTTYPE=image/jpeg:https://www.ccb.pt/wp-content/uploads/2020/06/O-que-acontece-à-arquitetura-1-1.jpeg
END:VEVENT
END:VCALENDAR