    BEGIN:VCALENDAR
VERSION:2.0
PRODID:-//Centro Cultural de Belém - ECPv5.16.4//NONSGML v1.0//EN
CALSCALE:GREGORIAN
METHOD:PUBLISH
X-WR-CALNAME:Centro Cultural de Belém
X-ORIGINAL-URL:https://www.ccb.pt
X-WR-CALDESC:Events for Centro Cultural de Belém
BEGIN:VTIMEZONE
TZID:Europe/Lisbon
BEGIN:DAYLIGHT
TZOFFSETFROM:+0000
TZOFFSETTO:+0100
TZNAME:WEST
DTSTART:20170326T010000
END:DAYLIGHT
BEGIN:STANDARD
TZOFFSETFROM:+0100
TZOFFSETTO:+0000
TZNAME:WET
DTSTART:20171029T010000
END:STANDARD
END:VTIMEZONE
BEGIN:VEVENT
DTSTART;TZID=Europe/Lisbon:20170412T100000
DTEND;TZID=Europe/Lisbon:20170618T180000
DTSTAMP:20260421T054806
CREATED:20200507T160310Z
LAST-MODIFIED:20260109T153956Z
UID:8649-1491991200-1497808800@www.ccb.pt
SUMMARY:Victor Palla e Bento d'Almeida
DESCRIPTION:A obra do atelier dos arquitetos Victor Palla (1922-2006) e Joaquim Bento d’Almeida (1918-1997)\, reconhecida pela historiografia e crítica da arquitetura portuguesa\, ainda não foi alvo de exposição pública. Fazendo parte de uma geração de arquitetos que adere aos princípios do Movimento Moderno\, a atividade profissional desta dupla manifestou-se ao longo de 25 anos (1947-1973). \nCuradores Patrícia Bento d’Almeida com João Palla Martins
URL:https://www.ccb.pt/evento/victor-palla-e-bento-dalmeida/
LOCATION:Praça do Império\, Lisboa\, Lisboa\, 1449-003\, Portugal
CATEGORIES:Centro de Arquitetura
ATTACH;FMTTYPE=image/jpeg:https://www.ccb.pt/wp-content/uploads/2020/05/atelier-coelho-da-rocha-1951.jpg
END:VEVENT
END:VCALENDAR