    BEGIN:VCALENDAR
VERSION:2.0
PRODID:-//Centro Cultural de Belém Foundation - ECPv5.16.4//NONSGML v1.0//EN
CALSCALE:GREGORIAN
METHOD:PUBLISH
X-WR-CALNAME:Centro Cultural de Belém Foundation
X-ORIGINAL-URL:https://www.ccb.pt/en/
X-WR-CALDESC:Events for Centro Cultural de Belém Foundation
BEGIN:VTIMEZONE
TZID:Europe/Lisbon
BEGIN:DAYLIGHT
TZOFFSETFROM:+0000
TZOFFSETTO:+0100
TZNAME:WEST
DTSTART:20230326T010000
END:DAYLIGHT
BEGIN:STANDARD
TZOFFSETFROM:+0100
TZOFFSETTO:+0000
TZNAME:WET
DTSTART:20231029T010000
END:STANDARD
END:VTIMEZONE
BEGIN:VEVENT
DTSTART;TZID=Europe/Lisbon:20230429T190000
DTEND;TZID=Europe/Lisbon:20230429T200000
DTSTAMP:20260425T115904
CREATED:20221117T101707Z
LAST-MODIFIED:20230413T153132Z
UID:112701-1682794800-1682798400@www.ccb.pt
SUMMARY:Aldina Duarte
DESCRIPTION:Aldina Duarte presents her most recent work\, Tudo Recomeça. Aldina lets you hear how Fado grows over time and transforms with its performer and the circumstances in which it lives. Fados that she never stopped singing in concerts\, since they were recorded; fados that she always sang live and that were never recorded. \n  \nTo watch live or online at BOL platform.\n 
URL:https://www.ccb.pt/en/evento/aldina-duarte-2/
LOCATION:Praça do Império\, Lisboa\, Lisboa\, 1449-003\, Portugal
CATEGORIES:Performances
ATTACH;FMTTYPE=image/jpeg:https://www.ccb.pt/wp-content/uploads/2022/11/4_Foto-Aldina-Duarte-©Isabel-Pinto_SITE.jpg
END:VEVENT
BEGIN:VEVENT
DTSTART;TZID=Europe/Lisbon:20230429T190000
DTEND;TZID=Europe/Lisbon:20230429T200000
DTSTAMP:20260425T115904
CREATED:20230215T103300Z
LAST-MODIFIED:20230413T153452Z
UID:117404-1682794800-1682798400@www.ccb.pt
SUMMARY:Aldina Duarte
DESCRIPTION:Aldina Duarte presents her most recent work\, Tudo Recomeça. Aldina lets you hear how Fado grows over time and transforms with its performer and the circumstances in which it lives. Fados that she never stopped singing in concerts\, since they were recorded; fados that she always sang live and that were never recorded.
URL:https://www.ccb.pt/en/evento/aldina-duarte-3/2023-04-29/
LOCATION:Praça do Império\, Lisboa\, Lisboa\, 1449-003\, Portugal
CATEGORIES:Performances
ATTACH;FMTTYPE=image/jpeg:https://www.ccb.pt/wp-content/uploads/2022/11/4_Foto-Aldina-Duarte-©Isabel-Pinto_SITE.jpg
END:VEVENT
END:VCALENDAR