    BEGIN:VCALENDAR
VERSION:2.0
PRODID:-//Centro Cultural de Belém Foundation - ECPv5.16.4//NONSGML v1.0//EN
CALSCALE:GREGORIAN
METHOD:PUBLISH
X-WR-CALNAME:Centro Cultural de Belém Foundation
X-ORIGINAL-URL:https://www.ccb.pt/en/
X-WR-CALDESC:Events for Centro Cultural de Belém Foundation
BEGIN:VTIMEZONE
TZID:Europe/Lisbon
BEGIN:DAYLIGHT
TZOFFSETFROM:+0000
TZOFFSETTO:+0100
TZNAME:WEST
DTSTART:20230326T010000
END:DAYLIGHT
BEGIN:STANDARD
TZOFFSETFROM:+0100
TZOFFSETTO:+0000
TZNAME:WET
DTSTART:20231029T010000
END:STANDARD
END:VTIMEZONE
BEGIN:VEVENT
DTSTART;TZID=Europe/Lisbon:20230331T190000
DTEND;TZID=Europe/Lisbon:20230331T200000
DTSTAMP:20260423T191954
CREATED:20230202T123444Z
LAST-MODIFIED:20230222T115258Z
UID:107863-1680289200-1680292800@www.ccb.pt
SUMMARY:Adriana Ferreira and guests
DESCRIPTION:A flute narrates the story through the music of Frederico de Freitas. We start from the collaborations of this composer with cinema\, from A Severa to Amália Rodrigues in Fado\, a Singer’s Story. Finally\, we hear an excerpt from this composer’s Flute concerto\, in a performance that links traditional and erudite elements of Freitas’ work.
URL:https://www.ccb.pt/en/evento/adriana-ferreira-e-convidados/
CATEGORIES:Performances
ATTACH;FMTTYPE=image/jpeg:https://www.ccb.pt/wp-content/uploads/2023/02/Site-Adriana-Ferreira-c-DR.jpg
END:VEVENT
BEGIN:VEVENT
DTSTART;TZID=Europe/Lisbon:20230331T210000
DTEND;TZID=Europe/Lisbon:20230331T220000
DTSTAMP:20260423T191955
CREATED:20230303T101537Z
LAST-MODIFIED:20230303T103429Z
UID:113562-1680296400-1680300000@www.ccb.pt
SUMMARY:MEDUSA unit
DESCRIPTION:MEDUSA unit is an ensemble that continues the solo project (for cello\, electronics\, and resonant objects) that Ricardo Jacinto has been presenting since 2014. \nThis concert will feature a repertoire of four pieces (Umbra\, Penumbra\, Antumbra\, and Hino a Caríbdis) adapted to a sound and light device designed specifically for the stage of the Main Auditorium.
URL:https://www.ccb.pt/en/evento/medusa-unit/
CATEGORIES:Performances
ATTACH;FMTTYPE=image/jpeg:https://www.ccb.pt/wp-content/uploads/2023/03/Site-MEDUSA-Unit-Festival-Impulso-c-Nuno-Conceicao.jpg
END:VEVENT
END:VCALENDAR