    BEGIN:VCALENDAR
VERSION:2.0
PRODID:-//Centro Cultural de Belém Foundation - ECPv5.16.4//NONSGML v1.0//EN
CALSCALE:GREGORIAN
METHOD:PUBLISH
X-WR-CALNAME:Centro Cultural de Belém Foundation
X-ORIGINAL-URL:https://www.ccb.pt/en/
X-WR-CALDESC:Events for Centro Cultural de Belém Foundation
BEGIN:VTIMEZONE
TZID:Europe/Lisbon
BEGIN:DAYLIGHT
TZOFFSETFROM:+0000
TZOFFSETTO:+0100
TZNAME:WEST
DTSTART:20230326T010000
END:DAYLIGHT
BEGIN:STANDARD
TZOFFSETFROM:+0100
TZOFFSETTO:+0000
TZNAME:WET
DTSTART:20231029T010000
END:STANDARD
END:VTIMEZONE
BEGIN:VEVENT
DTSTART;TZID=Europe/Lisbon:20230330T183000
DTEND;TZID=Europe/Lisbon:20230330T193000
DTSTAMP:20260423T174739
CREATED:20230222T091941Z
LAST-MODIFIED:20230222T115225Z
UID:112013-1680201000-1680204600@www.ccb.pt
SUMMARY:André Lepecki
DESCRIPTION:As seen during the various lockdowns caused by the Covid-19 pandemic\, the «movement» proved to be at the heart of fierce disputes around the concept of freedom. We will see how the specific modes of this dispute are manifested in the current moment and help us to rethink the foundations of what we still insist on calling «time». André Lepecki will pay attention to recent performances by mayfield brooks and Sara Cameron Sunde.
URL:https://www.ccb.pt/en/evento/conferencia-andre-lepecki/
ATTACH;FMTTYPE=image/jpeg:https://www.ccb.pt/wp-content/uploads/2023/02/Site-Lepecki-c-Malthe-Stigaard-Studium-Generale-Rietveld-Academie.jpg
END:VEVENT
END:VCALENDAR