    BEGIN:VCALENDAR
VERSION:2.0
PRODID:-//Centro Cultural de Belém Foundation - ECPv5.16.4//NONSGML v1.0//EN
CALSCALE:GREGORIAN
METHOD:PUBLISH
X-WR-CALNAME:Centro Cultural de Belém Foundation
X-ORIGINAL-URL:https://www.ccb.pt/en/
X-WR-CALDESC:Events for Centro Cultural de Belém Foundation
BEGIN:VTIMEZONE
TZID:Europe/Lisbon
BEGIN:DAYLIGHT
TZOFFSETFROM:+0000
TZOFFSETTO:+0100
TZNAME:WEST
DTSTART:20230326T010000
END:DAYLIGHT
BEGIN:STANDARD
TZOFFSETFROM:+0100
TZOFFSETTO:+0000
TZNAME:WET
DTSTART:20231029T010000
END:STANDARD
END:VTIMEZONE
BEGIN:VEVENT
DTSTART;TZID=Europe/Lisbon:20230328T100000
DTEND;TZID=Europe/Lisbon:20230328T190000
DTSTAMP:20260423T144012
CREATED:20230224T112218Z
LAST-MODIFIED:20231220T081242Z
UID:114652-1679997600-1680030000@www.ccb.pt
SUMMARY:Luigi Ghirri\, Obra Aberta
DESCRIPTION:“One of the 10 best exhibitions of 2023”\n– Público newspaper \n\nObra Aberta is the first exhibition in Lisbon of the work of Italian artist Luigi Ghirri (1943–1992)\, gathering seventy-nine photographs produced during the 1980s. This new selection of works was guided by the ideas in Ghirri’s 1984 essay The Open Work\, as well as by the structure of the estate itself\, mindful of clear tendencies and affinities that recur throughout the archive. Even if these images appear in different groups of work\, from different moments throughout the decade\, they all come together under Paesaggio Italiano\, which\, much more than a finished series\, was both manifest and metaphor for the totality of Ghirri’s work: an open work\, a new way for photography and for looking at the world—in “continuous dialogue between what has already occurred and what is still to come.” \nCurator Pedro Alfacinha\nExhibition co-produced by CCB Garagem Sul / Centro de Arquitetura and Festa do Cinema Italiano / Associação Il Sorpasso \nImage: Luigi Ghirri\, Marina di Ravenna\, 1986 © Eredi di Luigi Ghirri
URL:https://www.ccb.pt/en/evento/luigi-ghirri-obra-aberta/2023-03-28/
LOCATION:Praça do Império\, Lisboa\, Lisboa\, 1449-003\, Portugal
CATEGORIES:Architecture Center,Exhibitions
ATTACH;FMTTYPE=image/jpeg:https://www.ccb.pt/wp-content/uploads/2023/02/01-imagem-rosto-JPEG-scaled.jpg
END:VEVENT
END:VCALENDAR