    BEGIN:VCALENDAR
VERSION:2.0
PRODID:-//Centro Cultural de Belém Foundation - ECPv5.16.4//NONSGML v1.0//EN
CALSCALE:GREGORIAN
METHOD:PUBLISH
X-WR-CALNAME:Centro Cultural de Belém Foundation
X-ORIGINAL-URL:https://www.ccb.pt/en/
X-WR-CALDESC:Events for Centro Cultural de Belém Foundation
BEGIN:VTIMEZONE
TZID:Europe/Lisbon
BEGIN:DAYLIGHT
TZOFFSETFROM:+0000
TZOFFSETTO:+0100
TZNAME:WEST
DTSTART:20230326T010000
END:DAYLIGHT
BEGIN:STANDARD
TZOFFSETFROM:+0100
TZOFFSETTO:+0000
TZNAME:WET
DTSTART:20231029T010000
END:STANDARD
END:VTIMEZONE
BEGIN:VEVENT
DTSTART;TZID=Europe/Lisbon:20230327T210000
DTEND;TZID=Europe/Lisbon:20230327T220000
DTSTAMP:20260423T130649
CREATED:20220915T122236Z
LAST-MODIFIED:20230222T115152Z
UID:99572-1679950800-1679954400@www.ccb.pt
SUMMARY:Jakub Józef Orliński & Il pomo d'oro
DESCRIPTION:As a way of honoring Jorge Gil\, founder of Em Órbita (1965-2001)\, a reference in the Portuguese radio scene and the organization of classical music concerts\, the CCB will receive the Polish countertenor Jakub Józef Orliński\, accompanied by the ensemble Il Pomo d’Oro\, with the concert Facce d’Amore\, which includes some of the most beautiful baroque arias dedicated to the various aspects of Love. \n  \n  \n 
URL:https://www.ccb.pt/en/evento/jakub-jozef-orlinski-il-pomo-doro/
CATEGORIES:Performances
ATTACH;FMTTYPE=image/jpeg:https://www.ccb.pt/wp-content/uploads/2022/09/Jakub-Jozef-Orlinski-by-Jiyang-Chen-3_SITE-1-scaled.jpg
END:VEVENT
END:VCALENDAR