    BEGIN:VCALENDAR
VERSION:2.0
PRODID:-//Centro Cultural de Belém Foundation - ECPv5.16.4//NONSGML v1.0//EN
CALSCALE:GREGORIAN
METHOD:PUBLISH
X-WR-CALNAME:Centro Cultural de Belém Foundation
X-ORIGINAL-URL:https://www.ccb.pt/en/
X-WR-CALDESC:Events for Centro Cultural de Belém Foundation
BEGIN:VTIMEZONE
TZID:Europe/Lisbon
BEGIN:DAYLIGHT
TZOFFSETFROM:+0000
TZOFFSETTO:+0100
TZNAME:WEST
DTSTART:20230326T010000
END:DAYLIGHT
BEGIN:STANDARD
TZOFFSETFROM:+0100
TZOFFSETTO:+0000
TZNAME:WET
DTSTART:20231029T010000
END:STANDARD
END:VTIMEZONE
BEGIN:VEVENT
DTSTART;TZID=Europe/Lisbon:20230314T100000
DTEND;TZID=Europe/Lisbon:20230314T180000
DTSTAMP:20260420T184553
CREATED:20221013T104001Z
LAST-MODIFIED:20230601T103816Z
UID:102012-1678788000-1678816800@www.ccb.pt
SUMMARY:Classroom
DESCRIPTION:This exhibition wants to think with a generation that suffered most of their radical growth into adulthood during the pandemic\, studying at home\, and returned deeply changed to what appeared unchanged learning spaces\, more precisely the old classrooms. A set of questions organizes this archaeology of secondary education classrooms after WWII: how were these spaces produced? how were these bodies engendered and with what ecologies? what modes of assembly were constituting them as a political body? what norms art education was necessarily transgressing? and how was professional education reorganizing the relations between work and education? \nCuratorship Joaquim Moreno \nExhibition organized by Centro Cultural de Belém/Garagem Sul (Lisbon) and Plano Nacional das Artes\, arc en reve centre d’architecture (Bordeaux) and Z33 House for Contemporary Art\,Design & Architecture (Hasselt). \n13 October 2022 – 12 February 2023 – arc en reve centre d’architecture (Bordeaux)\n14 March – 10 September 2023 – Centro Cultural de Belém/Garagem Sul (Lisbon)\,\n30 September 2023 – 4 February 2024 – Z33 House for Contemporary Art\,Design & Architecture (Hasselt).
URL:https://www.ccb.pt/en/evento/sala-de-aula/2023-03-14/
LOCATION:Praça do Império\, Lisboa\, Lisboa\, 1449-003\, Portugal
CATEGORIES:Architecture Center,Exhibitions
ATTACH;FMTTYPE=image/jpeg:https://www.ccb.pt/wp-content/uploads/2022/10/St.-Crispins-School-London-United-Kingdom-©-Leonardo-Lella.jpeg
END:VEVENT
END:VCALENDAR