    BEGIN:VCALENDAR
VERSION:2.0
PRODID:-//Centro Cultural de Belém Foundation - ECPv5.16.4//NONSGML v1.0//EN
CALSCALE:GREGORIAN
METHOD:PUBLISH
X-WR-CALNAME:Centro Cultural de Belém Foundation
X-ORIGINAL-URL:https://www.ccb.pt/en/
X-WR-CALDESC:Events for Centro Cultural de Belém Foundation
BEGIN:VTIMEZONE
TZID:Europe/Lisbon
BEGIN:DAYLIGHT
TZOFFSETFROM:+0000
TZOFFSETTO:+0100
TZNAME:WEST
DTSTART:20220327T010000
END:DAYLIGHT
BEGIN:STANDARD
TZOFFSETFROM:+0100
TZOFFSETTO:+0000
TZNAME:WET
DTSTART:20221030T010000
END:STANDARD
END:VTIMEZONE
BEGIN:VEVENT
DTSTART;TZID=Europe/Lisbon:20220324T210000
DTEND;TZID=Europe/Lisbon:20220324T220000
DTSTAMP:20260424T043314
CREATED:20211115T173034Z
LAST-MODIFIED:20220224T115535Z
UID:65750-1648155600-1648159200@www.ccb.pt
SUMMARY:Pedro Jóia
DESCRIPTION:Pedro Jóia\, one of Portugal’s foremost guitarists\, presents us with a repertoire based on some of the best music produced in this country in the twentieth century\, and in which he demonstrates all of his technique and musical sensitivity. \nHe will be joined by several special guests in his presentation of versions for guitar and percussion of emblematic works by such diverse musicians as Armandinho\, Carlos Paredes and José Afonso\, as well as some of his own compositions. \nThis concert takes place in a room\, with an audience\, and  Live Streaming on the BOL platform. \n 
URL:https://www.ccb.pt/en/evento/pedro-joia/
CATEGORIES:Performances
ATTACH;FMTTYPE=image/jpeg:https://www.ccb.pt/wp-content/uploads/2021/11/site_PedroJoia.jpg
END:VEVENT
BEGIN:VEVENT
DTSTART;TZID=Europe/Lisbon:20220324T235900
DTEND;TZID=Europe/Lisbon:20220324T235900
DTSTAMP:20260424T043314
CREATED:20220215T173315Z
LAST-MODIFIED:20220224T140615Z
UID:71193-1648166340-1648166340@www.ccb.pt
SUMMARY:Pedro Jóia
DESCRIPTION:Pedro Jóia\, one of Portugal’s foremost guitarists\, presents us with a repertoire based on some of the best music produced in this country in the twentieth century\, and in which he demonstrates all of his technique and musical sensitivity. \nHe will be joined by several special guests in his presentation of versions for guitar and percussion of emblematic works by such diverse musicians as Armandinho\, Carlos Paredes and José Afonso\, as well as some of his own compositions. \nThis concert is available in streaming on the BOL platform.
URL:https://www.ccb.pt/en/evento/pedro-joia-2/2022-03-24/
CATEGORIES:Performances
ATTACH;FMTTYPE=image/jpeg:https://www.ccb.pt/wp-content/uploads/2021/11/site_PedroJoia.jpg
END:VEVENT
END:VCALENDAR