    BEGIN:VCALENDAR
VERSION:2.0
PRODID:-//Centro Cultural de Belém Foundation - ECPv5.16.4//NONSGML v1.0//EN
CALSCALE:GREGORIAN
METHOD:PUBLISH
X-WR-CALNAME:Centro Cultural de Belém Foundation
X-ORIGINAL-URL:https://www.ccb.pt/en/
X-WR-CALDESC:Events for Centro Cultural de Belém Foundation
BEGIN:VTIMEZONE
TZID:Europe/Lisbon
BEGIN:DAYLIGHT
TZOFFSETFROM:+0000
TZOFFSETTO:+0100
TZNAME:WEST
DTSTART:20220327T010000
END:DAYLIGHT
BEGIN:STANDARD
TZOFFSETFROM:+0100
TZOFFSETTO:+0000
TZNAME:WET
DTSTART:20221030T010000
END:STANDARD
END:VTIMEZONE
BEGIN:VEVENT
DTSTART;TZID=Europe/Lisbon:20220319T190000
DTEND;TZID=Europe/Lisbon:20220319T200000
DTSTAMP:20260423T220830
CREATED:20220118T145309Z
LAST-MODIFIED:20220303T160813Z
UID:67939-1647716400-1647720000@www.ccb.pt
SUMMARY:Companhia Clara Andermatt
DESCRIPTION:The musician and composer Orlando Barreto\, better known as Pantera\, was born on the island of Santiago\, Cape Verde\, in 1967 and died at the age of 33. \nHis daughter Darlene was only six years old when he died\, but\, over the last few years\, her in-depth research into her father’s life and work\, led her to challenge us to organise a tribute to him. \nPantera opened up new paths in his country’s music\, with Cape Verde and its people resonating in his voice. By exploring the archipelago’s different traditions\, he created perspicacious and assertive poetry that was full of love. \nFrom these remaining traces of his life and music\, we can build our own vision\, based on the moments and experiences that we were able to share with him\, as both a friend and an artist. Besides this chance to rediscover and remember his creativity and his affection\, we can follow a path of exploration\, delving into the customs and culture of his native land and never ceasing to project them into the contemporary world to which he also belonged. \nThis is\, therefore\, a show that has been built from memory. And\, above all\, it is an intense and dynamic experiment in collaboration. Each of the performers establishes a personal relationship in recalling their own experiences and offering us a creative wealth that is converted into the value and meaning of this tribute. \nBetween the great amount that still remains to be done and the great deal that has yet to be said\, this is our message to Pantera. \nLisbon\, October 2021 \nClara Andermatt and João Lucas \n 
URL:https://www.ccb.pt/en/evento/companhia-clara-andermatt/2022-03-19/
CATEGORIES:Performances
ATTACH;FMTTYPE=image/jpeg:https://www.ccb.pt/wp-content/uploads/2022/01/sitePanteraJorgeGoncalves.jpg
END:VEVENT
END:VCALENDAR