    BEGIN:VCALENDAR
VERSION:2.0
PRODID:-//Centro Cultural de Belém Foundation - ECPv5.16.4//NONSGML v1.0//EN
CALSCALE:GREGORIAN
METHOD:PUBLISH
X-WR-CALNAME:Centro Cultural de Belém Foundation
X-ORIGINAL-URL:https://www.ccb.pt/en/
X-WR-CALDESC:Events for Centro Cultural de Belém Foundation
BEGIN:VTIMEZONE
TZID:Europe/Lisbon
BEGIN:DAYLIGHT
TZOFFSETFROM:+0000
TZOFFSETTO:+0100
TZNAME:WEST
DTSTART:20220327T010000
END:DAYLIGHT
BEGIN:STANDARD
TZOFFSETFROM:+0100
TZOFFSETTO:+0000
TZNAME:WET
DTSTART:20221030T010000
END:STANDARD
END:VTIMEZONE
BEGIN:VEVENT
DTSTART;TZID=Europe/Lisbon:20220316T183000
DTEND;TZID=Europe/Lisbon:20220316T203000
DTSTAMP:20260423T175813
CREATED:20220224T133538Z
LAST-MODIFIED:20220412T160733Z
UID:71190-1647455400-1647462600@www.ccb.pt
SUMMARY:TVK + Raumlaborberlin
DESCRIPTION:On Collective Space\nThe first event of the year looks at the production of collective space\, understood as a fundamental asset in our built environments. In this session\, we see collective space as the fruitful relationship between public infrastructure and engaged citizens and communities. On the one hand\, an open plane — architecture of the ground — built to last\, on the other\, specific actions and diverse rituals that shape to our everyday life. Our guests are Pierre Alain Trévelo\, co-founder of the Paris-based practice TVK\, and Markus Bader\, co-founder of Berlin-based practice Raumlaborberlin. Both guests will introduce their specific approach concerning public space\, urban voids\, the collective and\, of course\, time: from resistant urban squares to floating learning spaces.
URL:https://www.ccb.pt/en/evento/tvk-raumlabor/
LOCATION:Praça do Império\, Lisboa\, Lisboa\, 1449-003\, Portugal
CATEGORIES:Architecture Center
ATTACH;FMTTYPE=image/jpeg:https://www.ccb.pt/wp-content/uploads/2022/02/01_FUB_Floating-aerial-view_cAlexanderStumm-scaled.jpg
END:VEVENT
END:VCALENDAR