    BEGIN:VCALENDAR
VERSION:2.0
PRODID:-//Centro Cultural de Belém Foundation - ECPv5.16.4//NONSGML v1.0//EN
CALSCALE:GREGORIAN
METHOD:PUBLISH
X-WR-CALNAME:Centro Cultural de Belém Foundation
X-ORIGINAL-URL:https://www.ccb.pt/en/
X-WR-CALDESC:Events for Centro Cultural de Belém Foundation
BEGIN:VTIMEZONE
TZID:Europe/Lisbon
BEGIN:DAYLIGHT
TZOFFSETFROM:+0000
TZOFFSETTO:+0100
TZNAME:WEST
DTSTART:20220327T010000
END:DAYLIGHT
BEGIN:STANDARD
TZOFFSETFROM:+0100
TZOFFSETTO:+0000
TZNAME:WET
DTSTART:20221030T010000
END:STANDARD
END:VTIMEZONE
BEGIN:VEVENT
DTSTART;TZID=Europe/Lisbon:20220304T210000
DTEND;TZID=Europe/Lisbon:20220304T220000
DTSTAMP:20260423T022646
CREATED:20211119T163138Z
LAST-MODIFIED:20220223T091145Z
UID:65732-1646427600-1646431200@www.ccb.pt
SUMMARY:Orchestra Rehearsal\, from Federico Fellini Direction Federico Fellini
DESCRIPTION:This show is an adaptation of Federico Fellini’s 1978 film Orchestra Rehearsal (1978). In the film\, a classical music orchestra assembles in a parish youth club to rehearse; in this case\, it is the jazz orchestra of the Hot Club de Portugal\, and their rehearsal room is the stage of the CCB. \nFellini uses the orchestra\, instruments\, musicians and music as a metaphor for a society in crisis. Although Fellini claimed that he was not at all interested in politics\, he constructed a film around an orchestra that rejects its collective nature\, with each individual having their own egocentric vision of their role. They are united only in their aim to overthrow the person that they consider to be their common enemy: the conductor. \nThe film has been criticised by many people. Some saw it as an apology for fascism\, while others described it as displaying a naive approach to politics. It was considered to be reactionary and conservative. But\, for Fellini himself\, Orchestra Rehearsal is none of this. «It is an ethical parable designed to arouse a certain feeling of shame in the people\, to show that their disorganised madness can prompt the organised madness of the State\, the dictatorship.» With this theme\, we are also interested in understanding where the jazz musician’s freedom lies. Where is the collective and individual freedom? \n  \n 
URL:https://www.ccb.pt/en/evento/ensaio-de-orquestra/2022-03-04/
CATEGORIES:Performances
ATTACH;FMTTYPE=image/jpeg:https://www.ccb.pt/wp-content/uploads/2021/11/4e5marco_site_tonanquito.jpg
END:VEVENT
END:VCALENDAR