    BEGIN:VCALENDAR
VERSION:2.0
PRODID:-//Centro Cultural de Belém Foundation - ECPv5.16.4//NONSGML v1.0//EN
CALSCALE:GREGORIAN
METHOD:PUBLISH
X-WR-CALNAME:Centro Cultural de Belém Foundation
X-ORIGINAL-URL:https://www.ccb.pt/en/
X-WR-CALDESC:Events for Centro Cultural de Belém Foundation
BEGIN:VTIMEZONE
TZID:Europe/Lisbon
BEGIN:DAYLIGHT
TZOFFSETFROM:+0000
TZOFFSETTO:+0100
TZNAME:WEST
DTSTART:20220327T010000
END:DAYLIGHT
BEGIN:STANDARD
TZOFFSETFROM:+0100
TZOFFSETTO:+0000
TZNAME:WET
DTSTART:20221030T010000
END:STANDARD
END:VTIMEZONE
BEGIN:VEVENT
DTSTART;TZID=Europe/Lisbon:20220227T170000
DTEND;TZID=Europe/Lisbon:20220227T180000
DTSTAMP:20260422T202620
CREATED:20210903T143728Z
LAST-MODIFIED:20211124T174322Z
UID:59597-1645981200-1645984800@www.ccb.pt
SUMMARY:Lisbon Metropolitan Orchestra
DESCRIPTION:And what if music were\, after all\, a Carnival mask? Would it cease to be the bearer of truth? The Metropolitan’s playful and jocular Carnival Concert clearly shows that one idea does not invalidate the other. Music constructs identities\, but it can also pervert them\, whenever it so wishes. So\, let us be heroes\, wrongdoers\, mythological creatures\, film stars… These are games of mirrors that enable us to see facets that are normally hidden in our day-to-day life. Because this is a «complex» subject\, the musicians of the Lisbon Metropolitan Orchestra invite us not to think too much before accepting the challenge that is launched from here. The aim is to fill the stage and the audience with the most incredible beings that inhabit Planet Music. Come from home dressed as some “thing” that reminds you of your favourite music. Bring hats\, colourful scarves and magic wands\, paint your faces or wear false noses. You can leave the streamers and the music to us. And we’ll create the right atmosphere together.
URL:https://www.ccb.pt/en/evento/concerto-de-carnaval/
CATEGORIES:Performances
ATTACH;FMTTYPE=image/jpeg:https://www.ccb.pt/wp-content/uploads/2021/08/Concerto-de-Carnaval-2021-1920-x-1080-Credito_Marcelo-Albuquerque.jpg
END:VEVENT
END:VCALENDAR