    BEGIN:VCALENDAR
VERSION:2.0
PRODID:-//Centro Cultural de Belém Foundation - ECPv5.16.4//NONSGML v1.0//EN
CALSCALE:GREGORIAN
METHOD:PUBLISH
X-WR-CALNAME:Centro Cultural de Belém Foundation
X-ORIGINAL-URL:https://www.ccb.pt/en/
X-WR-CALDESC:Events for Centro Cultural de Belém Foundation
BEGIN:VTIMEZONE
TZID:Europe/Lisbon
BEGIN:DAYLIGHT
TZOFFSETFROM:+0000
TZOFFSETTO:+0100
TZNAME:WEST
DTSTART:20220327T010000
END:DAYLIGHT
BEGIN:STANDARD
TZOFFSETFROM:+0100
TZOFFSETTO:+0000
TZNAME:WET
DTSTART:20221030T010000
END:STANDARD
END:VTIMEZONE
BEGIN:VEVENT
DTSTART;TZID=Europe/Lisbon:20220226T190000
DTEND;TZID=Europe/Lisbon:20220226T200000
DTSTAMP:20260422T191008
CREATED:20211110T131422Z
LAST-MODIFIED:20211117T123615Z
UID:63075-1645902000-1645905600@www.ccb.pt
SUMMARY:Zé Maria
DESCRIPTION:A promising voice from the new generation of Fado singers\, Zé Maria will be presenting his first recordings at this concert\, released on the Museu do Fado Discos label. This debut album reflects his musical path\, which was mapped out for him early on by the Fado\, later maturing and being brought to the attention of wider audiences at some of Lisbon’s most emblematic Fado houses. \nZé Maria’s Fado is harmonious and tuneful\, being deeply rooted in tradition\, but also producing more complex melodies and displaying a special sensitivity to poetry and what it communicates. \nZé Maria will be accompanied on Portuguese guitar by Pedro de Castro – who is also responsible for the album’s musical production – as well as by João Filipe on fado guitar and Francisco Gaspar on bass.
URL:https://www.ccb.pt/en/evento/ze-maria/
CATEGORIES:Performances
ATTACH;FMTTYPE=image/jpeg:https://www.ccb.pt/wp-content/uploads/2021/11/siteZEMARIAJennifferLimaPais.jpg
END:VEVENT
BEGIN:VEVENT
DTSTART;TZID=Europe/Lisbon:20220226T235900
DTEND;TZID=Europe/Lisbon:20220226T235900
DTSTAMP:20260422T191008
CREATED:20220215T142608Z
LAST-MODIFIED:20220224T121604Z
UID:71173-1645919940-1645919940@www.ccb.pt
SUMMARY:Zé Maria
DESCRIPTION:A promising voice from the new generation of Fado singers\, Zé Maria will be presenting his first recordings at this concert\, released on the Museu do Fado Discos label. This debut album reflects his musical path\, which was mapped out for him early on by the Fado\, later maturing and being brought to the attention of wider audiences at some of Lisbon’s most emblematic Fado houses. \nZé Maria’s Fado is harmonious and tuneful\, being deeply rooted in tradition\, but also producing more complex melodies and displaying a special sensitivity to poetry and what it communicates. \nZé Maria will be accompanied on Portuguese guitar by Pedro de Castro – who is also responsible for the album’s musical production – as well as by João Filipe on fado guitar and Francisco Gaspar on bass. \n  \nThis concert is available in streaming on the BOL platform. \n 
URL:https://www.ccb.pt/en/evento/ze-maria-2/2022-02-26/
CATEGORIES:Performances
ATTACH;FMTTYPE=image/jpeg:https://www.ccb.pt/wp-content/uploads/2021/11/siteZEMARIAJennifferLimaPais.jpg
END:VEVENT
END:VCALENDAR