    BEGIN:VCALENDAR
VERSION:2.0
PRODID:-//Centro Cultural de Belém Foundation - ECPv5.16.4//NONSGML v1.0//EN
CALSCALE:GREGORIAN
METHOD:PUBLISH
X-WR-CALNAME:Centro Cultural de Belém Foundation
X-ORIGINAL-URL:https://www.ccb.pt/en/
X-WR-CALDESC:Events for Centro Cultural de Belém Foundation
BEGIN:VTIMEZONE
TZID:Europe/Lisbon
BEGIN:DAYLIGHT
TZOFFSETFROM:+0000
TZOFFSETTO:+0100
TZNAME:WEST
DTSTART:20220327T010000
END:DAYLIGHT
BEGIN:STANDARD
TZOFFSETFROM:+0100
TZOFFSETTO:+0000
TZNAME:WET
DTSTART:20221030T010000
END:STANDARD
END:VTIMEZONE
BEGIN:VEVENT
DTSTART;TZID=Europe/Lisbon:20220225T190000
DTEND;TZID=Europe/Lisbon:20220225T190000
DTSTAMP:20260422T175206
CREATED:20220110T093315Z
LAST-MODIFIED:20220110T100030Z
UID:67304-1645815600-1645815600@www.ccb.pt
SUMMARY:António Carrilho\, Catherine Strynckx and Jenny Silvestre
DESCRIPTION:This program brings together flutist António Carrilho\, cellist Catherine Strynckx\, and harpsichordist Jenny Silvestre. They propose to explore the cultural heritage left by revelry\, a musical genre characterized by a cheerful and rhythmic ambiance\, used by Gil Vicente as another measuring instrument of the pulse of 16th-century Portuguese society.
URL:https://www.ccb.pt/en/evento/antonio-carrilho-catherine-strynckx-e-jenny-silvestre/
CATEGORIES:Performances
ATTACH;FMTTYPE=image/jpeg:https://www.ccb.pt/wp-content/uploads/2022/01/siteCARRILHO.jpg
END:VEVENT
BEGIN:VEVENT
DTSTART;TZID=Europe/Lisbon:20220225T210000
DTEND;TZID=Europe/Lisbon:20220225T220000
DTSTAMP:20260422T175206
CREATED:20211210T110601Z
LAST-MODIFIED:20211213T124320Z
UID:65729-1645822800-1645826400@www.ccb.pt
SUMMARY:João Pedro Brandão
DESCRIPTION:
URL:https://www.ccb.pt/en/evento/joao-pedro-brandao/
CATEGORIES:Performances
ATTACH;FMTTYPE=image/jpeg:https://www.ccb.pt/wp-content/uploads/2021/12/site_JoaoPedroBrandaoAlexandraAlmeida-.jpg
END:VEVENT
END:VCALENDAR